BEGIN:VCALENDAR
VERSION:2.0
PRODID:-//HAWC - ECPv6.15.17.1//NONSGML v1.0//EN
CALSCALE:GREGORIAN
METHOD:PUBLISH
X-WR-CALNAME:HAWC
X-ORIGINAL-URL:https://www.hawc.online
X-WR-CALDESC:Events for HAWC
REFRESH-INTERVAL;VALUE=DURATION:PT1H
X-Robots-Tag:noindex
X-PUBLISHED-TTL:PT1H
BEGIN:VTIMEZONE
TZID:America/Detroit
BEGIN:DAYLIGHT
TZOFFSETFROM:-0500
TZOFFSETTO:-0400
TZNAME:EDT
DTSTART:20250309T070000
END:DAYLIGHT
BEGIN:STANDARD
TZOFFSETFROM:-0400
TZOFFSETTO:-0500
TZNAME:EST
DTSTART:20251102T060000
END:STANDARD
BEGIN:DAYLIGHT
TZOFFSETFROM:-0500
TZOFFSETTO:-0400
TZNAME:EDT
DTSTART:20260308T070000
END:DAYLIGHT
BEGIN:STANDARD
TZOFFSETFROM:-0400
TZOFFSETTO:-0500
TZNAME:EST
DTSTART:20261101T060000
END:STANDARD
BEGIN:DAYLIGHT
TZOFFSETFROM:-0500
TZOFFSETTO:-0400
TZNAME:EDT
DTSTART:20270314T070000
END:DAYLIGHT
BEGIN:STANDARD
TZOFFSETFROM:-0400
TZOFFSETTO:-0500
TZNAME:EST
DTSTART:20271107T060000
END:STANDARD
END:VTIMEZONE
BEGIN:VEVENT
DTSTART;TZID=America/Detroit:20260320T190000
DTEND;TZID=America/Detroit:20260320T210000
DTSTAMP:20260419T181826
CREATED:20260305T204207Z
LAST-MODIFIED:20260305T205439Z
UID:196-1774033200-1774040400@www.hawc.online
SUMMARY:Washington Square Review Reading
DESCRIPTION:Join the creative writing community at Lansing Community College for a free\, public reading of the “Washington Square Review Star Edition.” \nThe Washington Square Review\, founded in 1972\, is LCC’s literary journal. The annual “Star Edition” is filled with creative writing such as poems\, stories and essays. \nYou’re invited to join us at the author reading event to hear students (including our own Joseph Esper) read their published work. \nAdmission is free and open to the public. All are welcome. \n\nFriday\, March 20\, 2026. 7:00 PM – 9:00 PM\nat the Lansing Community College\, Dart Auditorium (DRT)\n500 N Capitol Ave\, Lansing\, MI 48933\nEvent details are available via the Lansing Community College website.
URL:https://www.hawc.online/event/washington-square-review-reading/
LOCATION:Lansing Community College\, 600 N. Grand Avenue\, Lansing\, MI\, 48933\, United States
CATEGORIES:Member Events,Regional Events
END:VEVENT
BEGIN:VEVENT
DTSTART;TZID=America/Detroit:20260321T103000
DTEND;TZID=America/Detroit:20260321T130000
DTSTAMP:20260419T181826
CREATED:20260305T195554Z
LAST-MODIFIED:20260305T205348Z
UID:190-1774089000-1774098000@www.hawc.online
SUMMARY:HAWC Monthly Meeting
DESCRIPTION:Join the Howell Area Writers’ Circle\nfor our monthly meeting\nat the Howell Carnegie District Library\nlocated on the North side of Grand River Ave.\ntwo blocks West of Michigan Ave. (D-19)\nin downtown Howell\, Michigan. \nEnter via the back door\, then turn right at the desk.\nThe meeting is held in the Colbert Room.\nIf the door is closed\, enter quietly and have a seat. \nAll are welcome! \n 
URL:https://www.hawc.online/event/hawc-monthly-meeting/
LOCATION:Howell Carnegie District Library\, 314 West Grand River Ave.\, Howell\, MI\, 48843\, United States
CATEGORIES:HAWC Events,Local Events
END:VEVENT
BEGIN:VEVENT
DTSTART;TZID=America/Detroit:20260329T143000
DTEND;TZID=America/Detroit:20260329T160000
DTSTAMP:20260419T181826
CREATED:20260305T211730Z
LAST-MODIFIED:20260305T212740Z
UID:203-1774794600-1774800000@www.hawc.online
SUMMARY:2 Dandelions Poetry Workshop
DESCRIPTION:Join local poet\, Isabella Mansfield and members of the Howell Are Writers’ Circle\, at 2 Dandelions bookshop\, in Brighton\, MI\, for an amazing afternoon of poetry!\n\nBe there at 2:30 PM\, to take part in the Poetry Workshop; a collaborative editing workshop and discussion. Then\, stay for the open mic from 4:00 PM. till 5:00 PM!\n\n\nNo registration is required for this event. \nAll are welcome to bring your work in progress to get feedback from Isabella and other poets in attendance. \n\n\nSee you there!
URL:https://www.hawc.online/event/2-dandelions-poetry-workshop/
LOCATION:2 Dandelions Bookshop\, 428 W. Main Street\, Brighton\, MI\, 48116\, United States
CATEGORIES:Local Events,Member Events
END:VEVENT
BEGIN:VEVENT
DTSTART;TZID=America/Detroit:20260329T160000
DTEND;TZID=America/Detroit:20260329T170000
DTSTAMP:20260419T181826
CREATED:20260305T212348Z
LAST-MODIFIED:20260316T235855Z
UID:208-1774800000-1774803600@www.hawc.online
SUMMARY:2 Dandelions Poetry Open Mic
DESCRIPTION:Join local poet\, Isabella Mansfield and members of the Howell Are Writers’ Circle\, at 2 Dandelions bookshop\, in Brighton\, MI\, for an amazing afternoon of poetry!\n\nBe there at 2:30 PM\, to take part in the Poetry Workshop; a collaborative editing workshop and discussion. Then\, stay for the open mic from 4:00 PM. till 5:00 PM!\n\n\nAll are invited to attend our poetry open mics\, hosted by 2 Dandelions poet-in-residence\, Isabella J. Mansfield! Come to listen or to share – either way\, we make space for you! \nThese events are safe spaces and we do not censor poets. For this reason\, it is suggested high school age and up be in attendance. \n\nNo registration is required for this event.
URL:https://www.hawc.online/event/2-dandelions-poetry-open-mic/
LOCATION:2 Dandelions Bookshop\, 428 W. Main Street\, Brighton\, MI\, 48116\, United States
CATEGORIES:Local Events,Member Events
END:VEVENT
END:VCALENDAR